BEGIN:VCALENDAR
VERSION:2.0
PRODID:-//Squarespace Inc/Squarespace 6//v6//EN
BEGIN:VEVENT
UID:5e869799c46c8d7790471345@squarespace.com
DTSTAMP:20200403T015555Z
DTSTART:20200416T073000Z
DTEND:20200416T083000Z
SUMMARY:Zoom swimnastics session (5.30pm on Thursday 16th April)
END:VEVENT
END:VCALENDAR
