BEGIN:VCALENDAR
VERSION:2.0
PRODID:-//Squarespace Inc/Squarespace 6//v6//EN
BEGIN:VEVENT
UID:5eaf839236b2d874cee5a626@squarespace.com
DTSTAMP:20200504T025343Z
DTSTART:20200515T230000Z
DTEND:20200516T000000Z
SUMMARY:Zoom swimnastics session (9.00am on Saturday 16th May)
END:VEVENT
END:VCALENDAR
