BEGIN:VCALENDAR
VERSION:2.0
PRODID:-//Squarespace Inc/Squarespace 6//v6//EN
BEGIN:VEVENT
UID:601cafffc3ef514edaa18c0f@squarespace.com
DTSTAMP:20210206T213051Z
DTSTART:20210217T063000Z
DTEND:20210217T073000Z
SUMMARY:Zoom swimnastics session (5.30pm on Wednesday 17th February)
END:VEVENT
END:VCALENDAR
