BEGIN:VCALENDAR
VERSION:2.0
PRODID:-//Squarespace Inc/Squarespace 6//v6//EN
BEGIN:VEVENT
UID:5f85260f2ff84031abdf10c1@squarespace.com
DTSTAMP:20201013T035928Z
DTSTART:20201117T063000Z
DTEND:20201117T073000Z
SUMMARY:Zoom swimnastics session (5.30pm on Tuesday 17th November)
END:VEVENT
END:VCALENDAR
