BEGIN:VCALENDAR
VERSION:2.0
PRODID:-//Squarespace Inc/Squarespace 6//v6//EN
BEGIN:VEVENT
UID:601f0a9bd78d3824f6d9d8c1@squarespace.com
DTSTAMP:20210206T213126Z
DTSTART:20210218T063000Z
DTEND:20210218T073000Z
SUMMARY:Zoom swimnastics session (5.30pm on Thursday 18th February)
END:VEVENT
END:VCALENDAR
