BEGIN:VCALENDAR
VERSION:2.0
PRODID:-//Squarespace Inc/Squarespace 6//v6//EN
BEGIN:VEVENT
UID:5e8697b472767a40a3a56ec5@squarespace.com
DTSTAMP:20200403T015727Z
DTSTART:20200417T230000Z
DTEND:20200418T000000Z
SUMMARY:Zoom swimnastics session (9.00am on Saturday 18th April) 
END:VEVENT
END:VCALENDAR
