BEGIN:VCALENDAR
VERSION:2.0
PRODID:-//Squarespace Inc/Squarespace 6//v6//EN
BEGIN:VEVENT
UID:5eaf8485a7cc6227c0d83a54@squarespace.com
DTSTAMP:20200504T025739Z
DTSTART:20200518T073000Z
DTEND:20200518T083000Z
SUMMARY:Zoom swimnastics session (5.30pm on Monday 18th May)
END:VEVENT
END:VCALENDAR
