BEGIN:VCALENDAR
VERSION:2.0
PRODID:-//Squarespace Inc/Squarespace 6//v6//EN
BEGIN:VEVENT
UID:601f0ab49bbce176fb5063f9@squarespace.com
DTSTAMP:20210206T213149Z
DTSTART:20210219T054500Z
DTEND:20210219T064500Z
SUMMARY:Zoom swimnastics session (4.45pm on Friday 19th February)
END:VEVENT
END:VCALENDAR
