BEGIN:VCALENDAR
VERSION:2.0
PRODID:-//Squarespace Inc/Squarespace 6//v6//EN
BEGIN:VEVENT
UID:5fd93057c8a6414ff976a71e@squarespace.com
DTSTAMP:20201215T215350Z
DTSTART:20210119T063000Z
DTEND:20210119T073000Z
SUMMARY:Zoom swimnastics session (5.30pm on Tuesday 19th January)
END:VEVENT
END:VCALENDAR
