BEGIN:VCALENDAR
VERSION:2.0
PRODID:-//Squarespace Inc/Squarespace 6//v6//EN
BEGIN:VEVENT
UID:5f85264a8108b70047b980e8@squarespace.com
DTSTAMP:20201013T040024Z
DTSTART:20201119T063000Z
DTEND:20201119T073000Z
SUMMARY:Zoom swimnastics session (5.30pm on Thursday 19th November)
END:VEVENT
END:VCALENDAR
