BEGIN:VCALENDAR
VERSION:2.0
PRODID:-//Squarespace Inc/Squarespace 6//v6//EN
BEGIN:VEVENT
UID:5f5ef4d86ba9c322b1ddd4c0@squarespace.com
DTSTAMP:20200914T044317Z
DTSTART:20201019T063000Z
DTEND:20201019T073000Z
SUMMARY:Zoom swimnastics session (5.30pm on Monday 19th October)
END:VEVENT
END:VCALENDAR
