BEGIN:VCALENDAR
VERSION:2.0
PRODID:-//Squarespace Inc/Squarespace 6//v6//EN
BEGIN:VEVENT
UID:5eaf84f9a7327c7fb82a1efc@squarespace.com
DTSTAMP:20200504T030028Z
DTSTART:20200519T073000Z
DTEND:20200519T083000Z
SUMMARY:Zoom swimnastics session (5.30pm on Tuesday 19th May)
END:VEVENT
END:VCALENDAR
