BEGIN:VCALENDAR
VERSION:2.0
PRODID:-//Squarespace Inc/Squarespace 6//v6//EN
BEGIN:VEVENT
UID:5f8528359030fa51ad639b9d@squarespace.com
DTSTAMP:20201013T040849Z
DTSTART:20201201T063000Z
DTEND:20201201T073000Z
SUMMARY:Zoom swimnastics session (5.30pm on Tuesday 1st December)
END:VEVENT
END:VCALENDAR
