BEGIN:VCALENDAR
VERSION:2.0
PRODID:-//Squarespace Inc/Squarespace 6//v6//EN
BEGIN:VEVENT
UID:5ecb09ad4cd7db0c7688dbd4@squarespace.com
DTSTAMP:20200524T235704Z
DTSTART:20200601T073000Z
DTEND:20200601T083000Z
SUMMARY:Zoom swimnastics session (5.30pm on Monday 1st June)
END:VEVENT
END:VCALENDAR
