BEGIN:VCALENDAR
VERSION:2.0
PRODID:-//Squarespace Inc/Squarespace 6//v6//EN
BEGIN:VEVENT
UID:5f5ef37ed7536c1e1e3566e2@squarespace.com
DTSTAMP:20200914T043738Z
DTSTART:20201001T073000Z
DTEND:20201001T083000Z
SUMMARY:Zoom swimnastics session (5.30pm on Thursday 1st October)
END:VEVENT
END:VCALENDAR
