BEGIN:VCALENDAR
VERSION:2.0
PRODID:-//Squarespace Inc/Squarespace 6//v6//EN
BEGIN:VEVENT
UID:5f309cd268db76113aaed990@squarespace.com
DTSTAMP:20200810T010331Z
DTSTART:20200901T073000Z
DTEND:20200901T083000Z
SUMMARY:Zoom swimnastics session (5.30pm on Tuesday 1st September)
END:VEVENT
END:VCALENDAR
