BEGIN:VCALENDAR
VERSION:2.0
PRODID:-//Squarespace Inc/Squarespace 6//v6//EN
BEGIN:VEVENT
UID:5e7d942e854e1012be9febce@squarespace.com
DTSTAMP:20200327T062648Z
DTSTART:20200401T063000Z
DTEND:20200401T073000Z
SUMMARY:Zoom swimnastics session (5.30pm on Wednesday 1st April)
END:VEVENT
END:VCALENDAR
