BEGIN:VCALENDAR
VERSION:2.0
PRODID:-//Squarespace Inc/Squarespace 6//v6//EN
BEGIN:VEVENT
UID:5f5ef4f1d7536c1e1e3583f9@squarespace.com
DTSTAMP:20200914T044341Z
DTSTART:20201020T063000Z
DTEND:20201020T073000Z
SUMMARY:Zoom swimnastics session (5.30pm on Tuesday 20th October)
END:VEVENT
END:VCALENDAR
