BEGIN:VCALENDAR
VERSION:2.0
PRODID:-//Squarespace Inc/Squarespace 6//v6//EN
BEGIN:VEVENT
UID:5e8d1505fc846f1ffc915d56@squarespace.com
DTSTAMP:20200408T000436Z
DTSTART:20200427T073000Z
DTEND:20200427T083000Z
SUMMARY:Zoom swimnastics session (5.30pm on Monday 27th April)
END:VEVENT
END:VCALENDAR
