BEGIN:VCALENDAR
VERSION:2.0
PRODID:-//Squarespace Inc/Squarespace 6//v6//EN
BEGIN:VEVENT
UID:5e8d1309ae00e55698a2b095@squarespace.com
DTSTAMP:20200407T235757Z
DTSTART:20200420T073000Z
DTEND:20200420T083000Z
SUMMARY:Zoom swimnastics session (5.30pm on Monday 20th April)
END:VEVENT
END:VCALENDAR
