BEGIN:VCALENDAR
VERSION:2.0
PRODID:-//Squarespace Inc/Squarespace 6//v6//EN
BEGIN:VEVENT
UID:5eaf85de2c604f1a74c1b32f@squarespace.com
DTSTAMP:20200504T030353Z
DTSTART:20200520T073000Z
DTEND:20200520T083000Z
SUMMARY:Zoom swimnastics session (5.30pm on Wednesday 20th May)
END:VEVENT
END:VCALENDAR
