BEGIN:VCALENDAR
VERSION:2.0
PRODID:-//Squarespace Inc/Squarespace 6//v6//EN
BEGIN:VEVENT
UID:5fc84ed8970db930d9bc8a5e@squarespace.com
DTSTAMP:20201203T023523Z
DTSTART:20201221T063000Z
DTEND:20201221T073000Z
SUMMARY:Zoom swimnastics session (5.30pm on Monday 21st December)
END:VEVENT
END:VCALENDAR
