BEGIN:VCALENDAR
VERSION:2.0
PRODID:-//Squarespace Inc/Squarespace 6//v6//EN
BEGIN:VEVENT
UID:5f309e6e17f1700098e96452@squarespace.com
DTSTAMP:20200810T011020Z
DTSTART:20200921T073000Z
DTEND:20200921T083000Z
SUMMARY:Zoom swimnastics session (5.30pm on Monday 21st September)
END:VEVENT
END:VCALENDAR
