BEGIN:VCALENDAR
VERSION:2.0
PRODID:-//Squarespace Inc/Squarespace 6//v6//EN
BEGIN:VEVENT
UID:5e8d13607935fa74f97db906@squarespace.com
DTSTAMP:20200407T235745Z
DTSTART:20200421T073000Z
DTEND:20200421T083000Z
SUMMARY:Zoom swimnastics session (5.30pm on Tuesday 21st April)
END:VEVENT
END:VCALENDAR
