BEGIN:VCALENDAR
VERSION:2.0
PRODID:-//Squarespace Inc/Squarespace 6//v6//EN
BEGIN:VEVENT
UID:5f0536faf90c3a296d267a40@squarespace.com
DTSTAMP:20200708T030129Z
DTSTART:20200721T073000Z
DTEND:20200721T083000Z
SUMMARY:Zoom swimnastics session (5.30pm on Tuesday 21st July)
END:VEVENT
END:VCALENDAR
