BEGIN:VCALENDAR
VERSION:2.0
PRODID:-//Squarespace Inc/Squarespace 6//v6//EN
BEGIN:VEVENT
UID:5eaf868a964bea466c6ca7b0@squarespace.com
DTSTAMP:20200504T030609Z
DTSTART:20200521T073000Z
DTEND:20200521T083000Z
SUMMARY:Zoom swimnastics session (5.30pm on Thursday 21st May)
END:VEVENT
END:VCALENDAR
