BEGIN:VCALENDAR
VERSION:2.0
PRODID:-//Squarespace Inc/Squarespace 6//v6//EN
BEGIN:VEVENT
UID:5e8d13a5e5e3517c6bbeaa81@squarespace.com
DTSTAMP:20200407T235913Z
DTSTART:20200422T073000Z
DTEND:20200422T083000Z
SUMMARY:Zoom swimnastics session (5.30pm on Wednesday 22nd April)
END:VEVENT
END:VCALENDAR
