BEGIN:VCALENDAR
VERSION:2.0
PRODID:-//Squarespace Inc/Squarespace 6//v6//EN
BEGIN:VEVENT
UID:5f5ef52602b4ba0be61512b8@squarespace.com
DTSTAMP:20200914T044436Z
DTSTART:20201022T063000Z
DTEND:20201022T073000Z
SUMMARY:Zoom swimnastics session (5.30pm on Thursday 22nd October)
END:VEVENT
END:VCALENDAR
