BEGIN:VCALENDAR
VERSION:2.0
PRODID:-//Squarespace Inc/Squarespace 6//v6//EN
BEGIN:VEVENT
UID:5f309e882f13c5704814c246@squarespace.com
DTSTAMP:20200810T011046Z
DTSTART:20200922T073000Z
DTEND:20200922T083000Z
SUMMARY:Zoom swimnastics session (5.30pm on Tuesday 22nd September)
END:VEVENT
END:VCALENDAR
