BEGIN:VCALENDAR
VERSION:2.0
PRODID:-//Squarespace Inc/Squarespace 6//v6//EN
BEGIN:VEVENT
UID:600f446f1a6db7077b973690@squarespace.com
DTSTAMP:20210206T213212Z
DTSTART:20210223T070000Z
DTEND:20210223T080000Z
SUMMARY:Zoom swimnastics session (6.00pm on Tuesday 23rd February)
END:VEVENT
END:VCALENDAR
