BEGIN:VCALENDAR
VERSION:2.0
PRODID:-//Squarespace Inc/Squarespace 6//v6//EN
BEGIN:VEVENT
UID:5f03f32af6724b5987b31754@squarespace.com
DTSTAMP:20200707T035953Z
DTSTART:20200723T073000Z
DTEND:20200723T083000Z
SUMMARY:Zoom swimnastics session (5.30pm on Thursday 23rd July)
END:VEVENT
END:VCALENDAR
