BEGIN:VCALENDAR
VERSION:2.0
PRODID:-//Squarespace Inc/Squarespace 6//v6//EN
BEGIN:VEVENT
UID:5f8527167c1e2a40a0e399d9@squarespace.com
DTSTAMP:20201013T040349Z
DTSTART:20201123T063000Z
DTEND:20201123T073000Z
SUMMARY:Zoom swimnastics session (5.30pm on Monday 23rd November)
END:VEVENT
END:VCALENDAR
