BEGIN:VCALENDAR
VERSION:2.0
PRODID:-//Squarespace Inc/Squarespace 6//v6//EN
BEGIN:VEVENT
UID:5ed710d44469905e51229460@squarespace.com
DTSTAMP:20200616T231828Z
DTSTART:20200623T073000Z
DTEND:20200623T083000Z
SUMMARY:Zoom swimnastics session (5.30pm on Tuesday 23rd June)
END:VEVENT
END:VCALENDAR
