BEGIN:VCALENDAR
VERSION:2.0
PRODID:-//Squarespace Inc/Squarespace 6//v6//EN
BEGIN:VEVENT
UID:5eaf86b3120a192621c4ee8a@squarespace.com
DTSTAMP:20200504T030754Z
DTSTART:20200522T230000Z
DTEND:20200523T000000Z
SUMMARY:Zoom swimnastics session (9.00am on Saturday 23rd May)
END:VEVENT
END:VCALENDAR
