BEGIN:VCALENDAR
VERSION:2.0
PRODID:-//Squarespace Inc/Squarespace 6//v6//EN
BEGIN:VEVENT
UID:601cb015eadfc50c31164184@squarespace.com
DTSTAMP:20210206T213229Z
DTSTART:20210224T063000Z
DTEND:20210224T073000Z
SUMMARY:Zoom swimnastics session (5.30pm on Wednesday 24th February)
END:VEVENT
END:VCALENDAR
