BEGIN:VCALENDAR
VERSION:2.0
PRODID:-//Squarespace Inc/Squarespace 6//v6//EN
BEGIN:VEVENT
UID:5f85275b0ffcdb72c2f96691@squarespace.com
DTSTAMP:20201013T040456Z
DTSTART:20201124T063000Z
DTEND:20201124T073000Z
SUMMARY:Zoom swimnastics session (5.30pm on Tuesday 24th November)
END:VEVENT
END:VCALENDAR
