BEGIN:VCALENDAR
VERSION:2.0
PRODID:-//Squarespace Inc/Squarespace 6//v6//EN
BEGIN:VEVENT
UID:5e9cfe3d554bbb3b8e265721@squarespace.com
DTSTAMP:20200420T014433Z
DTSTART:20200424T230000Z
DTEND:20200425T000000Z
SUMMARY:Zoom swimnastics session (9.00am on Saturday 25th April)
END:VEVENT
END:VCALENDAR
