BEGIN:VCALENDAR
VERSION:2.0
PRODID:-//Squarespace Inc/Squarespace 6//v6//EN
BEGIN:VEVENT
UID:5ed7119b4469905e5122abc8@squarespace.com
DTSTAMP:20200616T231902Z
DTSTART:20200625T073000Z
DTEND:20200625T083000Z
SUMMARY:Zoom swimnastics session (5.30pm on Thursday 25th June)
END:VEVENT
END:VCALENDAR
