BEGIN:VCALENDAR
VERSION:2.0
PRODID:-//Squarespace Inc/Squarespace 6//v6//EN
BEGIN:VEVENT
UID:5ebcc0eb333e482a6e0845ac@squarespace.com
DTSTAMP:20200514T035442Z
DTSTART:20200525T073000Z
DTEND:20200525T083000Z
SUMMARY:Zoom swimnastics session (5.30pm on Monday 25th May)
END:VEVENT
END:VCALENDAR
