BEGIN:VCALENDAR
VERSION:2.0
PRODID:-//Squarespace Inc/Squarespace 6//v6//EN
BEGIN:VEVENT
UID:5f8527aaaf94213b311b4ddd@squarespace.com
DTSTAMP:20201013T040616Z
DTSTART:20201126T063000Z
DTEND:20201126T073000Z
SUMMARY:Zoom swimnastics session (5.30pm on Thursday 26th November)
END:VEVENT
END:VCALENDAR
