BEGIN:VCALENDAR
VERSION:2.0
PRODID:-//Squarespace Inc/Squarespace 6//v6//EN
BEGIN:VEVENT
UID:5f5ef555a3738d07d526b033@squarespace.com
DTSTAMP:20200914T044521Z
DTSTART:20201026T063000Z
DTEND:20201026T073000Z
SUMMARY:Zoom swimnastics session (5.30pm on Monday 26th October)
END:VEVENT
END:VCALENDAR
