BEGIN:VCALENDAR
VERSION:2.0
PRODID:-//Squarespace Inc/Squarespace 6//v6//EN
BEGIN:VEVENT
UID:5e781fe0e8ff44374c304308@squarespace.com
DTSTAMP:20200323T024048Z
DTSTART:20200326T063000Z
DTEND:20200326T073000Z
SUMMARY:Zoom swimnastics session (5.30pm on Thursday 26th March)
END:VEVENT
END:VCALENDAR
