BEGIN:VCALENDAR
VERSION:2.0
PRODID:-//Squarespace Inc/Squarespace 6//v6//EN
BEGIN:VEVENT
UID:5ebcc2a73e76e57f9ffc0fe0@squarespace.com
DTSTAMP:20200514T040204Z
DTSTART:20200526T073000Z
DTEND:20200526T083000Z
SUMMARY:Zoom swimnastics session (5.30pm on Tuesday 26th May)
END:VEVENT
END:VCALENDAR
