BEGIN:VCALENDAR
VERSION:2.0
PRODID:-//Squarespace Inc/Squarespace 6//v6//EN
BEGIN:VEVENT
UID:5f0d1228f5ef6a1329317fb3@squarespace.com
DTSTAMP:20200714T020223Z
DTSTART:20200824T073000Z
DTEND:20200824T083000Z
SUMMARY:Zoom swimnastics session (5.30pm on Monday 24th August)
END:VEVENT
END:VCALENDAR
