BEGIN:VCALENDAR
VERSION:2.0
PRODID:-//Squarespace Inc/Squarespace 6//v6//EN
BEGIN:VEVENT
UID:5f0d11d1f5ef6a1329317581@squarespace.com
DTSTAMP:20200714T020058Z
DTSTART:20200817T073000Z
DTEND:20200817T083000Z
SUMMARY:Zoom swimnastics session (5.30pm on Monday 17th August)
END:VEVENT
END:VCALENDAR
