BEGIN:VCALENDAR
VERSION:2.0
PRODID:-//Squarespace Inc/Squarespace 6//v6//EN
BEGIN:VEVENT
UID:5f0d117b388be04dded2e865@squarespace.com
DTSTAMP:20200714T015931Z
DTSTART:20200810T073000Z
DTEND:20200810T083000Z
SUMMARY:Zoom swimnastics session (5.30pm on Monday 10th August)
END:VEVENT
END:VCALENDAR
