BEGIN:VCALENDAR
VERSION:2.0
PRODID:-//Squarespace Inc/Squarespace 6//v6//EN
BEGIN:VEVENT
UID:5f0d11189716383665bc62c6@squarespace.com
DTSTAMP:20200714T015754Z
DTSTART:20200803T073000Z
DTEND:20200803T083000Z
SUMMARY:Zoom swimnastics session (5.30pm on Monday 3rd August)
END:VEVENT
END:VCALENDAR
