BEGIN:VCALENDAR
VERSION:2.0
PRODID:-//Squarespace Inc/Squarespace 6//v6//EN
BEGIN:VEVENT
UID:5f03f361514dfe56247e1efa@squarespace.com
DTSTAMP:20200707T040049Z
DTSTART:20200727T073000Z
DTEND:20200727T083000Z
SUMMARY:Zoom swimnastics session (5.30pm on Monday 27th July)
END:VEVENT
END:VCALENDAR
