BEGIN:VCALENDAR
VERSION:2.0
PRODID:-//Squarespace Inc/Squarespace 6//v6//EN
BEGIN:VEVENT
UID:5f5ef56a4d3a6a5d4ff49ec9@squarespace.com
DTSTAMP:20200914T044542Z
DTSTART:20201027T063000Z
DTEND:20201027T073000Z
SUMMARY:Zoom swimnastics session (5.30pm on Tuesday 27th October)
END:VEVENT
END:VCALENDAR
