BEGIN:VCALENDAR
VERSION:2.0
PRODID:-//Squarespace Inc/Squarespace 6//v6//EN
BEGIN:VEVENT
UID:5ed711e532f1880e247491b4@squarespace.com
DTSTAMP:20200616T231919Z
DTSTART:20200626T230000Z
DTEND:20200627T000000Z
SUMMARY:Zoom swimnastics session (9.00am on Saturday 27th June)
END:VEVENT
END:VCALENDAR
